BEGIN:VCALENDAR
VERSION:2.0
PRODID:-//Volksschule Vorchdorf - ECPv6.15.15//NONSGML v1.0//EN
CALSCALE:GREGORIAN
METHOD:PUBLISH
X-WR-CALNAME:Volksschule Vorchdorf
X-ORIGINAL-URL:https://vs-vorchdorf.at
X-WR-CALDESC:Veranstaltungen für Volksschule Vorchdorf
REFRESH-INTERVAL;VALUE=DURATION:PT1H
X-Robots-Tag:noindex
X-PUBLISHED-TTL:PT1H
BEGIN:VTIMEZONE
TZID:Europe/Vienna
BEGIN:DAYLIGHT
TZOFFSETFROM:+0100
TZOFFSETTO:+0200
TZNAME:CEST
DTSTART:20250330T010000
END:DAYLIGHT
BEGIN:STANDARD
TZOFFSETFROM:+0200
TZOFFSETTO:+0100
TZNAME:CET
DTSTART:20251026T010000
END:STANDARD
BEGIN:DAYLIGHT
TZOFFSETFROM:+0100
TZOFFSETTO:+0200
TZNAME:CEST
DTSTART:20260329T010000
END:DAYLIGHT
BEGIN:STANDARD
TZOFFSETFROM:+0200
TZOFFSETTO:+0100
TZNAME:CET
DTSTART:20261025T010000
END:STANDARD
BEGIN:DAYLIGHT
TZOFFSETFROM:+0100
TZOFFSETTO:+0200
TZNAME:CEST
DTSTART:20270328T010000
END:DAYLIGHT
BEGIN:STANDARD
TZOFFSETFROM:+0200
TZOFFSETTO:+0100
TZNAME:CET
DTSTART:20271031T010000
END:STANDARD
END:VTIMEZONE
BEGIN:VEVENT
DTSTART;TZID=Europe/Vienna:20260603T093000
DTEND;TZID=Europe/Vienna:20260603T100000
DTSTAMP:20260420T154228
CREATED:20260208T203806Z
LAST-MODIFIED:20260208T203806Z
UID:10598-1780479000-1780480800@vs-vorchdorf.at
SUMMARY:Gesunde Jause 2C
DESCRIPTION:Die 2C Klasse bereitet gemeinsam mit den Vorchdorfer Ortsbäuerinnen die gesunde Jause für die ganze Schule vor.
URL:https://vs-vorchdorf.at/kalender/gesunde-jause-2c/
END:VEVENT
BEGIN:VEVENT
DTSTART;VALUE=DATE:20260604
DTEND;VALUE=DATE:20260605
DTSTAMP:20260420T154228
CREATED:20250928T155128Z
LAST-MODIFIED:20250928T155128Z
UID:9744-1780531200-1780617599@vs-vorchdorf.at
SUMMARY:Feiertag-Fronleichnam
DESCRIPTION:
URL:https://vs-vorchdorf.at/kalender/feiertag-fronleichnam/
CATEGORIES:Schulfrei
END:VEVENT
BEGIN:VEVENT
DTSTART;VALUE=DATE:20260605
DTEND;VALUE=DATE:20260606
DTSTAMP:20260420T154228
CREATED:20250928T155157Z
LAST-MODIFIED:20250928T155157Z
UID:9746-1780617600-1780703999@vs-vorchdorf.at
SUMMARY:Schulautonom frei
DESCRIPTION:
URL:https://vs-vorchdorf.at/kalender/schulautonom-frei-4/
CATEGORIES:Schulfrei
END:VEVENT
BEGIN:VEVENT
DTSTART;TZID=Europe/Vienna:20260615T075500
DTEND;TZID=Europe/Vienna:20260615T114500
DTSTAMP:20260420T154228
CREATED:20260208T203903Z
LAST-MODIFIED:20260208T204044Z
UID:10600-1781510100-1781523900@vs-vorchdorf.at
SUMMARY:Musical: Die kleine Meerjungfrau - Termin 1
DESCRIPTION:
URL:https://vs-vorchdorf.at/kalender/musical-die-kleine-meerjungfrau-termin1/
LOCATION:Stadttheater Gmunden
END:VEVENT
BEGIN:VEVENT
DTSTART;TZID=Europe/Vienna:20260616T075500
DTEND;TZID=Europe/Vienna:20260616T114500
DTSTAMP:20260420T154228
CREATED:20260208T204010Z
LAST-MODIFIED:20260208T204010Z
UID:10602-1781596500-1781610300@vs-vorchdorf.at
SUMMARY:Musical: Die kleine Meerjungfrau - Termin 2
DESCRIPTION:
URL:https://vs-vorchdorf.at/kalender/musical-die-kleine-meerjungfrau-termin-2/
LOCATION:Stadttheater Gmunden
END:VEVENT
BEGIN:VEVENT
DTSTART;TZID=Europe/Vienna:20260618T075500
DTEND;TZID=Europe/Vienna:20260618T114500
DTSTAMP:20260420T154228
CREATED:20260208T204200Z
LAST-MODIFIED:20260208T204200Z
UID:10606-1781769300-1781783100@vs-vorchdorf.at
SUMMARY:Schwimmen 2A und 2B
DESCRIPTION:
URL:https://vs-vorchdorf.at/kalender/schwimmen-2a-und-2b/
END:VEVENT
BEGIN:VEVENT
DTSTART;TZID=Europe/Vienna:20260629T075500
DTEND;TZID=Europe/Vienna:20260629T124000
DTSTAMP:20260420T154228
CREATED:20260208T204255Z
LAST-MODIFIED:20260208T204255Z
UID:10608-1782719700-1782736800@vs-vorchdorf.at
SUMMARY:Abschlussveranstaltung "Kinder gestalten Zukunft" für 3. Klassen
DESCRIPTION:
URL:https://vs-vorchdorf.at/kalender/abschlussveranstaltung-kinder-gestalten-zukunft-fuer-3-klassen/
LOCATION:Linz
END:VEVENT
END:VCALENDAR