BEGIN:VCALENDAR
VERSION:2.0
PRODID:-//Volksschule Vorchdorf - ECPv6.15.15//NONSGML v1.0//EN
CALSCALE:GREGORIAN
METHOD:PUBLISH
X-WR-CALNAME:Volksschule Vorchdorf
X-ORIGINAL-URL:https://vs-vorchdorf.at
X-WR-CALDESC:Veranstaltungen für Volksschule Vorchdorf
REFRESH-INTERVAL;VALUE=DURATION:PT1H
X-Robots-Tag:noindex
X-PUBLISHED-TTL:PT1H
BEGIN:VTIMEZONE
TZID:Europe/Vienna
BEGIN:DAYLIGHT
TZOFFSETFROM:+0100
TZOFFSETTO:+0200
TZNAME:CEST
DTSTART:20240331T010000
END:DAYLIGHT
BEGIN:STANDARD
TZOFFSETFROM:+0200
TZOFFSETTO:+0100
TZNAME:CET
DTSTART:20241027T010000
END:STANDARD
BEGIN:DAYLIGHT
TZOFFSETFROM:+0100
TZOFFSETTO:+0200
TZNAME:CEST
DTSTART:20250330T010000
END:DAYLIGHT
BEGIN:STANDARD
TZOFFSETFROM:+0200
TZOFFSETTO:+0100
TZNAME:CET
DTSTART:20251026T010000
END:STANDARD
BEGIN:DAYLIGHT
TZOFFSETFROM:+0100
TZOFFSETTO:+0200
TZNAME:CEST
DTSTART:20260329T010000
END:DAYLIGHT
BEGIN:STANDARD
TZOFFSETFROM:+0200
TZOFFSETTO:+0100
TZNAME:CET
DTSTART:20261025T010000
END:STANDARD
END:VTIMEZONE
BEGIN:VEVENT
DTSTART;TZID=Europe/Vienna:20251015T093000
DTEND;TZID=Europe/Vienna:20251015T100000
DTSTAMP:20260420T215002
CREATED:20250913T090846Z
LAST-MODIFIED:20250928T152435Z
UID:9587-1760520600-1760522400@vs-vorchdorf.at
SUMMARY:Gesunde Jause
DESCRIPTION:Eine Klasse bereitet gemeinsam mit den Vorchdorfer Ortsbäuerinnen die gesunde Jause für die ganze Schule vor.
URL:https://vs-vorchdorf.at/kalender/gesunde-jause-der-4a/
CATEGORIES:Schultermine
END:VEVENT
BEGIN:VEVENT
DTSTART;TZID=Europe/Vienna:20251020T190000
DTEND;TZID=Europe/Vienna:20251020T210000
DTSTAMP:20260420T215002
CREATED:20250913T090930Z
LAST-MODIFIED:20251020T053337Z
UID:9589-1760986800-1760994000@vs-vorchdorf.at
SUMMARY:Schulforum Pfarrsaal
DESCRIPTION:
URL:https://vs-vorchdorf.at/kalender/schulforum-2/
CATEGORIES:Termine
END:VEVENT
BEGIN:VEVENT
DTSTART;TZID=Europe/Vienna:20251021T075500
DTEND;TZID=Europe/Vienna:20251021T124000
DTSTAMP:20260420T215002
CREATED:20250913T091253Z
LAST-MODIFIED:20250913T094942Z
UID:9591-1761033300-1761050400@vs-vorchdorf.at
SUMMARY:Hallo Auto! - Termin 1
DESCRIPTION:Hallo Auto! ist ein Angebot des ÖAMTC und findet heuer für die 3. Klassen statt. \nInformationen dazu finden Sie unter https://www.oeamtc.at/thema/verkehrserziehung/hallo-auto-41624818
URL:https://vs-vorchdorf.at/kalender/hallo-auto-termin-1/
CATEGORIES:Schultermine
END:VEVENT
BEGIN:VEVENT
DTSTART;TZID=Europe/Vienna:20251022T075500
DTEND;TZID=Europe/Vienna:20251022T124000
DTSTAMP:20260420T215002
CREATED:20250913T091331Z
LAST-MODIFIED:20250913T094926Z
UID:9593-1761119700-1761136800@vs-vorchdorf.at
SUMMARY:Hallo Auto! - Termin 2
DESCRIPTION:Hallo Auto! ist ein Angebot des ÖAMTC und findet heuer für die 3. Klassen statt. \nInformationen dazu finden Sie unter https://www.oeamtc.at/thema/verkehrserziehung/hallo-auto-41624818
URL:https://vs-vorchdorf.at/kalender/hallo-auto-termin-2/
CATEGORIES:Schultermine
END:VEVENT
BEGIN:VEVENT
DTSTART;VALUE=DATE:20251025
DTEND;VALUE=DATE:20251103
DTSTAMP:20260420T215002
CREATED:20250913T091612Z
LAST-MODIFIED:20250913T091612Z
UID:9596-1761350400-1762127999@vs-vorchdorf.at
SUMMARY:Herbstferien
DESCRIPTION:
URL:https://vs-vorchdorf.at/kalender/herbstferien-3/
CATEGORIES:Schulfrei
END:VEVENT
BEGIN:VEVENT
DTSTART;TZID=Europe/Vienna:20251029T075500
DTEND;TZID=Europe/Vienna:20251029T100000
DTSTAMP:20260420T215002
CREATED:20251029T071629Z
LAST-MODIFIED:20251029T071629Z
UID:10094-1761724500-1761732000@vs-vorchdorf.at
SUMMARY:Gesunde Jause 3C
DESCRIPTION:Die 3C Klasse bereitet gemeinsam mit den Vorchdorfer Ortsbäuerinnen die gesunde Jause für die ganze Schule vor.
URL:https://vs-vorchdorf.at/kalender/gesunde-jause-3c/
END:VEVENT
END:VCALENDAR