BEGIN:VCALENDAR
VERSION:2.0
PRODID:-//Volksschule Vorchdorf - ECPv6.15.15//NONSGML v1.0//EN
CALSCALE:GREGORIAN
METHOD:PUBLISH
X-ORIGINAL-URL:https://vs-vorchdorf.at
X-WR-CALDESC:Veranstaltungen für Volksschule Vorchdorf
REFRESH-INTERVAL;VALUE=DURATION:PT1H
X-Robots-Tag:noindex
X-PUBLISHED-TTL:PT1H
BEGIN:VTIMEZONE
TZID:Europe/Vienna
BEGIN:DAYLIGHT
TZOFFSETFROM:+0100
TZOFFSETTO:+0200
TZNAME:CEST
DTSTART:20240331T010000
END:DAYLIGHT
BEGIN:STANDARD
TZOFFSETFROM:+0200
TZOFFSETTO:+0100
TZNAME:CET
DTSTART:20241027T010000
END:STANDARD
BEGIN:DAYLIGHT
TZOFFSETFROM:+0100
TZOFFSETTO:+0200
TZNAME:CEST
DTSTART:20250330T010000
END:DAYLIGHT
BEGIN:STANDARD
TZOFFSETFROM:+0200
TZOFFSETTO:+0100
TZNAME:CET
DTSTART:20251026T010000
END:STANDARD
BEGIN:DAYLIGHT
TZOFFSETFROM:+0100
TZOFFSETTO:+0200
TZNAME:CEST
DTSTART:20260329T010000
END:DAYLIGHT
BEGIN:STANDARD
TZOFFSETFROM:+0200
TZOFFSETTO:+0100
TZNAME:CET
DTSTART:20261025T010000
END:STANDARD
END:VTIMEZONE
BEGIN:VEVENT
DTSTART;TZID=Europe/Vienna:20250909T100000
DTEND;TZID=Europe/Vienna:20250909T105000
DTSTAMP:20260420T231715
CREATED:20250913T085234Z
LAST-MODIFIED:20250913T085234Z
UID:9572-1757412000-1757415000@vs-vorchdorf.at
SUMMARY:Eröffnungsgottesdienst
DESCRIPTION:
URL:https://vs-vorchdorf.at/kalender/eroeffnungsgottesdienst/
CATEGORIES:Schultermine
END:VEVENT
BEGIN:VEVENT
DTSTART;TZID=Europe/Vienna:20250916T075500
DTEND;TZID=Europe/Vienna:20250916T124000
DTSTAMP:20260420T231715
CREATED:20250913T085550Z
LAST-MODIFIED:20250913T095239Z
UID:9574-1758009300-1758026400@vs-vorchdorf.at
SUMMARY:Fotograf - Termin 1
DESCRIPTION:Der Fotograf kommt! \nHeuer wird uns das Team von Fotoart Laakirchen fotografieren.
URL:https://vs-vorchdorf.at/kalender/fotograf-termin-1/
CATEGORIES:Schultermine
END:VEVENT
BEGIN:VEVENT
DTSTART;TZID=Europe/Vienna:20250917T075500
DTEND;TZID=Europe/Vienna:20250917T124000
DTSTAMP:20260420T231715
CREATED:20250913T085611Z
LAST-MODIFIED:20250913T095256Z
UID:9576-1758095700-1758112800@vs-vorchdorf.at
SUMMARY:Fotograf - Termin 2
DESCRIPTION:Der Fotograf kommt! \nHeuer wird uns das Team von Fotoart Laakirchen fotografieren.
URL:https://vs-vorchdorf.at/kalender/fotograf-termin-2/
CATEGORIES:Schultermine
END:VEVENT
BEGIN:VEVENT
DTSTART;TZID=Europe/Vienna:20250918T075500
DTEND;TZID=Europe/Vienna:20250918T124000
DTSTAMP:20260420T231715
CREATED:20250913T090015Z
LAST-MODIFIED:20250913T095111Z
UID:9578-1758182100-1758199200@vs-vorchdorf.at
SUMMARY:Radworkshop AUVA - Termin 1
DESCRIPTION:Der Radworkshop der AUVA findet für die 2.\, 3. und 4. Klassen statt. \nInformationen zum Radworkshop finden Sie unter https://radworkshop.info/
URL:https://vs-vorchdorf.at/kalender/radworkshop-auva-termin-1/
CATEGORIES:Schultermine
END:VEVENT
BEGIN:VEVENT
DTSTART;TZID=Europe/Vienna:20250919T075500
DTEND;TZID=Europe/Vienna:20250919T124000
DTSTAMP:20260420T231715
CREATED:20250913T090304Z
LAST-MODIFIED:20250913T095053Z
UID:9580-1758268500-1758285600@vs-vorchdorf.at
SUMMARY:Radworkshop AUVA - Termin 2
DESCRIPTION:Der Radworkshop der AUVA findet für die 2.\, 3. und 4. Klassen statt. \nInformationen zum Radworkshop finden Sie unter https://radworkshop.info/ \n 
URL:https://vs-vorchdorf.at/kalender/radworkshop-auva-termin-2/
END:VEVENT
BEGIN:VEVENT
DTSTART;TZID=Europe/Vienna:20250926T075500
DTEND;TZID=Europe/Vienna:20250926T094000
DTSTAMP:20260420T231715
CREATED:20250913T090603Z
LAST-MODIFIED:20250913T090603Z
UID:9583-1758873300-1758879600@vs-vorchdorf.at
SUMMARY:Verkehrserziehung für Schulanfänger
DESCRIPTION:
URL:https://vs-vorchdorf.at/kalender/verkehrserziehung-fuer-schulanfaenger/
CATEGORIES:Schultermine
END:VEVENT
BEGIN:VEVENT
DTSTART;TZID=Europe/Vienna:20250926T100000
DTEND;TZID=Europe/Vienna:20250926T105000
DTSTAMP:20260420T231715
CREATED:20250913T090721Z
LAST-MODIFIED:20250913T090721Z
UID:9585-1758880800-1758883800@vs-vorchdorf.at
SUMMARY:Schultreff
DESCRIPTION:
URL:https://vs-vorchdorf.at/kalender/schultreff/
CATEGORIES:Schultermine
END:VEVENT
END:VCALENDAR